BEGIN:VCALENDAR
VERSION:2.0
METHOD:PUBLISH
PRODID:-//List Fixer//NONSGML v1.0//EN
BEGIN:VEVENT
UID:event_00001705
DTSTAMP:20231010T200000Z
DTSTART:20231010T200000Z
DTEND:20231010T213000Z
SUMMARY:LWV-Bangor Book Group
LOCATION:BANGOR PUBLIC LIBRARY, 145 Harlow St, Bangor ME
DESCRIPTION:Join the Bangor League for a discussion of Crack-U
 p Capitalism: Market Radicals and the Dream of a W
 orld Without Democracy by Quinn Slobodian.\n\nVisi
 t event page: https://www.democracymaine.org/civic
 rm/event/info?id=1705&reset=1
END:VEVENT
END:VCALENDAR
