BEGIN:VCALENDAR
VERSION:2.0
METHOD:PUBLISH
PRODID:-//List Fixer//NONSGML v1.0//EN
BEGIN:VEVENT
UID:event_00001716
DTSTAMP:20231020T200000Z
DTSTART:20231020T200000Z
DTEND:20231020T210000Z
SUMMARY:Democracy Forum -- Yikes: 8 Ballot Questions!
LOCATION:WERU 89.9 FM, Blue Hill ME
DESCRIPTION:Streaming at weru.org.\n\nVisit event page: https
 ://www.democracymaine.org/civicrm/event/info?id=17
 16&reset=1
END:VEVENT
END:VCALENDAR
