BEGIN:VCALENDAR
VERSION:2.0
METHOD:PUBLISH
PRODID:-//List Fixer//NONSGML v1.0//EN
BEGIN:VEVENT
UID:event_00001742
DTSTAMP:20231004T213000Z
DTSTART:20231004T213000Z
DTEND:20231004T233000Z
SUMMARY:Bangor Area: Public Forum on Ballot Questions 2 and 4-8
LOCATION:BANGOR PUBLIC LIBRARY, 145 Harlow St, Bangor ME
DESCRIPTION:Discussions of Questions 2 and 4 through 8 will be
  held at a public forum.\n\nVisit event page: http
 s://www.democracymaine.org/civicrm/event/info?id=1
 742&reset=1
END:VEVENT
END:VCALENDAR
