BEGIN:VCALENDAR
VERSION:2.0
METHOD:PUBLISH
PRODID:-//List Fixer//NONSGML v1.0//EN
BEGIN:VEVENT
UID:event_00001744
DTSTAMP:20231005T213000Z
DTSTART:20231005T213000Z
DTEND:20231006T000000Z
SUMMARY:Bangor School Committee and City Council Candidate Forums
LOCATION:GRACIE THEATRE | HUSSON UNIVERSITY, 1 College Cir, Bangor ME
DESCRIPTION:The League of Women Voters of the Bangor Area, Hus
 son University, and the Bangor Downtown Partnershi
 p are hosting nonpartisan candidate forums for the
  Bangor City Council and the Bangor School Committ
 ee.\n\nVisit event page: https://www.democracymain
 e.org/civicrm/event/info?id=1744&reset=1
END:VEVENT
END:VCALENDAR
