BEGIN:VCALENDAR
VERSION:2.0
METHOD:PUBLISH
PRODID:-//List Fixer//NONSGML v1.0//EN
BEGIN:VEVENT
UID:event_00001745
DTSTAMP:20231001T180000Z
DTSTART:20231001T180000Z
DTEND:20231001T190000Z
SUMMARY:LWV-Bangor Sunday Walk
LOCATION:11 Mill St, Orono ME
DESCRIPTION:Join members of the Bangor League for the Riversid
 e Walk in Orono this Sunday afternoon!\n\nVisit ev
 ent page: https://www.democracymaine.org/civicrm/e
 vent/info?id=1745&reset=1
END:VEVENT
END:VCALENDAR
