BEGIN:VCALENDAR
VERSION:2.0
METHOD:PUBLISH
PRODID:-//List Fixer//NONSGML v1.0//EN
BEGIN:VEVENT
UID:event_00001746
DTSTAMP:20231004T213000Z
DTSTART:20231004T213000Z
DTEND:20231004T230000Z
SUMMARY:Augusta City Council and Board of Education Candidate Forum
LOCATION:LITHGOW PUBLIC LIBRARY, 45 Winthrop St, Augusta ME
DESCRIPTION:Forum featuring candidates running for seats on th
 e Augusta City Council and the Board of Education.
 \n\nVisit event page: https://www.democracymaine.o
 rg/civicrm/event/info?id=1746&reset=1
END:VEVENT
END:VCALENDAR
