BEGIN:VCALENDAR
VERSION:2.0
METHOD:PUBLISH
PRODID:-//List Fixer//NONSGML v1.0//EN
BEGIN:VEVENT
UID:event_00001751
DTSTAMP:20231014T143000Z
DTSTART:20231014T143000Z
DTEND:20231014T160000Z
SUMMARY:LWV-Highlands Regional: Issue Forum on Ballot Question 3
LOCATION:SHAW PUBLIC LIBRARY, 9 Lily Bay Rd, Greenville ME
DESCRIPTION:Proponents and opponents of Question 3,  the citiz
 en-initiated question on the November ballot, pres
 ent their cases in a panel discussion.\n\nVisit ev
 ent page: https://www.democracymaine.org/civicrm/e
 vent/info?id=1751&reset=1
END:VEVENT
END:VCALENDAR
