BEGIN:VCALENDAR
VERSION:2.0
METHOD:PUBLISH
PRODID:-//List Fixer//NONSGML v1.0//EN
BEGIN:VEVENT
UID:event_00001752
DTSTAMP:20231018T210000Z
DTSTART:20231018T210000Z
DTEND:20231018T220000Z
SUMMARY:Let's Talk About Digital Threats to Democracy | AI Endangers Elections
LOCATION:Hosted On Zoom
DESCRIPTION:October Topic: AI Endangers to Elections 

Pleas
 e note the time of this event per time zone:
5 p.
 m. EDT // 4 p.m. CDT // 3 p.m. MDT // 2 p.m. PDT /
 / 1 p.m. AKDT\n\nVisit event page: https://www.dem
 ocracymaine.org/civicrm/event/info?id=1752&reset=1
END:VEVENT
END:VCALENDAR
