BEGIN:VCALENDAR
VERSION:2.0
METHOD:PUBLISH
PRODID:-//List Fixer//NONSGML v1.0//EN
BEGIN:VEVENT
UID:event_00001753
DTSTAMP:20231008T180000Z
DTSTART:20231008T180000Z
DTEND:20231008T190000Z
SUMMARY:LWV-Bangor Sunday Walk
LOCATION:167 Rangeley Rd, Orono ME
DESCRIPTION:Join members of the Bangor League for a walk at th
 e Jordan Planetarium in Orono this Sunday afternoo
 n!\n\nVisit event page: https://www.democracymaine
 .org/civicrm/event/info?id=1753&reset=1
END:VEVENT
END:VCALENDAR
