BEGIN:VCALENDAR
VERSION:2.0
METHOD:PUBLISH
PRODID:-//List Fixer//NONSGML v1.0//EN
BEGIN:VEVENT
UID:event_00001754
DTSTAMP:20231015T180000Z
DTSTART:20231015T180000Z
DTEND:20231015T190000Z
SUMMARY:LWV-Bangor Sunday Walk
LOCATION:600 State St, Bangor ME
DESCRIPTION:Join members of the Bangor League for a walk at Ca
 scade Park this Sunday afternoon!\n\nVisit event p
 age: https://www.democracymaine.org/civicrm/event/
 info?id=1754&reset=1
END:VEVENT
END:VCALENDAR
