BEGIN:VCALENDAR
VERSION:2.0
METHOD:PUBLISH
PRODID:-//List Fixer//NONSGML v1.0//EN
BEGIN:VEVENT
UID:event_00001755
DTSTAMP:20231027T220000Z
DTSTART:20231027T220000Z
DTEND:20231027T233000Z
SUMMARY:CANCELED: Brunswick Town Council Candidate Forum
LOCATION:CURTIS MEMORIAL LIBRARY, 23 Pleasant St, Brunswick ME
DESCRIPTION:Due to the ongoing manhunt following the tragic ev
 ents in Lewiston, the Curtis Memorial Library is c
 losed Friday, October 27.\n\nVisit event page: htt
 ps://www.democracymaine.org/civicrm/event/info?id=
 1755&reset=1
END:VEVENT
END:VCALENDAR
