BEGIN:VCALENDAR
VERSION:2.0
METHOD:PUBLISH
PRODID:-//List Fixer//NONSGML v1.0//EN
BEGIN:VEVENT
UID:event_00001759
DTSTAMP:20231029T180000Z
DTSTART:20231029T180000Z
DTEND:20231029T190000Z
SUMMARY:LWV-Bangor Sunday Walk
LOCATION:54 Tripp Dr, Bangor ME
DESCRIPTION:Join members of the Bangor League for a walk at th
 e Bangor City Forest this Sunday afternoon!\n\nVis
 it event page: https://www.democracymaine.org/civi
 crm/event/info?id=1759&reset=1
END:VEVENT
END:VCALENDAR
