BEGIN:VCALENDAR
VERSION:2.0
METHOD:PUBLISH
PRODID:-//List Fixer//NONSGML v1.0//EN
BEGIN:VEVENT
UID:event_00002066
DTSTAMP:20250604T230000Z
DTSTART:20250604T230000Z
DTEND:20250605T003000Z
SUMMARY:Falmouth Town Council Candidates Meet & Greet
LOCATION:LUNT AUDITORIUM AT OCEANVIEW, 74 Lunt Rd, Falmouth ME
DESCRIPTION:Learn about the candidates and the Town Council, i
 tself, in time to vote on June 10.\n\nVisit event 
 page: https://www.democracymaine.org/civicrm/event
 /info?id=2066&reset=1
END:VEVENT
END:VCALENDAR
