BEGIN:VCALENDAR
VERSION:2.0
METHOD:PUBLISH
PRODID:-//List Fixer//NONSGML v1.0//EN
BEGIN:VEVENT
UID:event_00002081
DTSTAMP:20250806T200000Z
DTSTART:20250806T200000Z
DTEND:20250806T213000Z
SUMMARY:Midcoast Chapter Meeting
DESCRIPTION:The League of Women Voters of Maine-Midcoast is ex
 cited to invite you to join our monthly meetings a
 t the Rockland Public Library!\n\nVisit event page
 : https://www.democracymaine.org/civicrm/event/inf
 o?id=2081&reset=1
END:VEVENT
END:VCALENDAR
