BEGIN:VCALENDAR
VERSION:2.0
METHOD:PUBLISH
PRODID:-//List Fixer//NONSGML v1.0//EN
BEGIN:VEVENT
UID:event_00002084
DTSTAMP:20250620T200000Z
DTSTART:20250620T200000Z
DTEND:20250620T210000Z
SUMMARY:Democracy Forum — Constitutional Crisis: Are Civil Liberties (and Freedom Itself) a Thing of the Past?
LOCATION:WERU 89.9 FM, Blue Hill ME
DESCRIPTION:We will be discussing the repercussions of the fed
 eral administration's policies on civil liberties,
  habeas corpus, due process, and immigrant detenti
 ons and deportations.\n\nVisit event page: https:/
 /www.democracymaine.org/civicrm/event/info?id=2084
 &reset=1
END:VEVENT
END:VCALENDAR
