BEGIN:VCALENDAR
VERSION:2.0
METHOD:PUBLISH
PRODID:-//List Fixer//NONSGML v1.0//EN
BEGIN:VEVENT
UID:event_00002085
DTSTAMP:20250612T210000Z
DTSTART:20250612T210000Z
DTEND:20250612T223000Z
SUMMARY:2025 Speakers' Bureau Training
LOCATION:Hosted On Zoom
DESCRIPTION:The League is known as a good information source, 
 and we're already being asked to give talks! This 
 training will focus on how to talk about the ballo
 t question against the broader context of voter su
 ppression.\n\nVisit event page: https://www.democr
 acymaine.org/civicrm/event/info?id=2085&reset=1
END:VEVENT
END:VCALENDAR
