BEGIN:VCALENDAR
VERSION:2.0
METHOD:PUBLISH
PRODID:-//List Fixer//NONSGML v1.0//EN
BEGIN:VEVENT
UID:event_00002102
DTSTAMP:20250718T200000Z
DTSTART:20250718T200000Z
DTEND:20250718T210000Z
SUMMARY:Democracy Forum — Constitutional Crisis: Will We Still Have Free and Fair Elections?
LOCATION:WERU 89.9 FM, Blue Hill ME
DESCRIPTION:"It's not the voting that's democracy; it's the co
 unting." - Tom Stoppard\n\nVisit event page: https
 ://www.democracymaine.org/civicrm/event/info?id=21
 02&reset=1
END:VEVENT
END:VCALENDAR
