BEGIN:VCALENDAR
VERSION:2.0
METHOD:PUBLISH
PRODID:-//List Fixer//NONSGML v1.0//EN
BEGIN:VEVENT
UID:event_00002108
DTSTAMP:20251022T210000Z
DTSTART:20251022T210000Z
DTEND:20251022T223000Z
SUMMARY:Downeast Book Group - POSTPONED
LOCATION:Hosted On Zoom
DESCRIPTION:The book for was month is Abundance, but Ezra Klei
 n and Derek Thompson. Watch for a new date early i
 n 2026.\n\nVisit event page: https://www.democracy
 maine.org/civicrm/event/info?id=2108&reset=1
END:VEVENT
END:VCALENDAR
