BEGIN:VCALENDAR
VERSION:2.0
METHOD:PUBLISH
PRODID:-//List Fixer//NONSGML v1.0//EN
BEGIN:VEVENT
UID:event_00002109
DTSTAMP:20250815T200000Z
DTSTART:20250815T200000Z
DTEND:20250815T210000Z
SUMMARY:Democracy Forum — States' Rights, Then and Now
LOCATION:WERU 89.9 FM, Blue Hill ME
DESCRIPTION:“The powers not delegated to the United States b
 y the Constitution, nor prohibited by it to the St
 ates, are reserved to the States respectively, or 
 to the people.” – Tenth Amendment, 1791\n\nVis
 it event page: https://www.democracymaine.org/civi
 crm/event/info?id=2109&reset=1
END:VEVENT
END:VCALENDAR
