BEGIN:VCALENDAR
VERSION:2.0
METHOD:PUBLISH
PRODID:-//List Fixer//NONSGML v1.0//EN
BEGIN:VEVENT
UID:event_00002127
DTSTAMP:20251014T230000Z
DTSTART:20251014T230000Z
DTEND:20251015T010000Z
SUMMARY:Standing up for the Rule of Law: How do we save it?
LOCATION:HANNAFORD HALL, 88 Bedford St, Portland ME
DESCRIPTION:The Rule of Law as we have known it since the earl
 iest days of our country is under serious attack. 
 Please join us to learn what we all can do to hold
  our elected leaders and government accountable to
  the people.\n\nVisit event page: https://www.demo
 cracymaine.org/civicrm/event/info?id=2127&reset=1
END:VEVENT
END:VCALENDAR
