BEGIN:VCALENDAR
VERSION:2.0
METHOD:PUBLISH
PRODID:-//List Fixer//NONSGML v1.0//EN
BEGIN:VEVENT
UID:event_00002137
DTSTAMP:20251006T200000Z
DTSTART:20251006T200000Z
DTEND:20251006T210000Z
SUMMARY:MSV Voter Registration Training
LOCATION:
DESCRIPTION:Join us for a brief voter registration training!\n
 \nVisit event page: https://www.democracymaine.org
 /civicrm/event/info?id=2137&reset=1
END:VEVENT
END:VCALENDAR
