BEGIN:VCALENDAR
VERSION:2.0
METHOD:PUBLISH
PRODID:-//List Fixer//NONSGML v1.0//EN
BEGIN:VEVENT
UID:event_00002143
DTSTAMP:20251010T140000Z
DTSTART:20251010T140000Z
DTEND:20251010T150000Z
SUMMARY:MSV Voter Registration Training
LOCATION:
DESCRIPTION:Join us for a brief voter registration training!\n
 \nVisit event page: https://www.democracymaine.org
 /civicrm/event/info?id=2143&reset=1
END:VEVENT
END:VCALENDAR
