BEGIN:VCALENDAR
VERSION:2.0
METHOD:PUBLISH
PRODID:-//List Fixer//NONSGML v1.0//EN
BEGIN:VEVENT
UID:event_00002148
DTSTAMP:20251007T213000Z
DTSTART:20251007T213000Z
DTEND:20251007T223000Z
SUMMARY:Dover-Foxcroft: Questions on the November Ballot
LOCATION:THOMPSON FREE LIBRARY, 186 E Main St, Dover Foxcroft ME
DESCRIPTION:In November 2025, voters will decide on two citize
 n initiatives. Join us for an informative presenta
 tion from the Highlands Regional LWVME.\n\nVisit e
 vent page: https://www.democracymaine.org/civicrm/
 event/info?id=2148&reset=1
END:VEVENT
END:VCALENDAR
