BEGIN:VCALENDAR
VERSION:2.0
METHOD:PUBLISH
PRODID:-//List Fixer//NONSGML v1.0//EN
BEGIN:VEVENT
UID:event_00002154
DTSTAMP:20251015T223000Z
DTSTART:20251015T223000Z
DTEND:20251015T233000Z
SUMMARY:Question 1 LTE Writing Workshop
LOCATION:Hosted on Zoom
DESCRIPTION:On the November ballot, Question 1 will ask Maine 
 voters if they want to make drastic changes to our
  elections. Write a Letter to the Editor and encou
 rage your communities to vote NO on Question 1!\n\
 nVisit event page: https://www.democracymaine.org/
 civicrm/event/info?id=2154&reset=1
END:VEVENT
END:VCALENDAR
