BEGIN:VCALENDAR
VERSION:2.0
METHOD:PUBLISH
PRODID:-//List Fixer//NONSGML v1.0//EN
BEGIN:VEVENT
UID:event_00002156
DTSTAMP:20251005T170000Z
DTSTART:20251005T170000Z
DTEND:20251005T210000Z
SUMMARY:Save Maine Absentee Voting - Westbrook Field Canvass!
LOCATION:WALKER MEMORIAL LIBRARY, 800 Main St
DESCRIPTION:Come knock on doors in Westbrook to make sure peop
 le know that they should vote No on Question One t
 o save Maine absentee voting! Don't worry if you'v
 e never done it - we'll train you.\n\nVisit event 
 page: https://www.democracymaine.org/civicrm/event
 /info?id=2156&reset=1
END:VEVENT
END:VCALENDAR
