BEGIN:VCALENDAR
VERSION:2.0
METHOD:PUBLISH
PRODID:-//List Fixer//NONSGML v1.0//EN
BEGIN:VEVENT
UID:event_00002158
DTSTAMP:20251015T120000Z
DTSTART:20251015T120000Z
DTEND:20251015T130000Z
SUMMARY:LWV-Portland: Get Acquainted Coffees
LOCATION:UNIT 106 CAFE LUNA, 267 US Route 1
DESCRIPTION:Meet us in person for an informal, one-hour coffee
 ! Learn more about LWVPA, the latest news developm
 ents, and how your time and talent can make a diff
 erence.\n\nVisit event page: https://www.democracy
 maine.org/civicrm/event/info?id=2158&reset=1
END:VEVENT
END:VCALENDAR
