BEGIN:VCALENDAR
VERSION:2.0
METHOD:PUBLISH
PRODID:-//List Fixer//NONSGML v1.0//EN
BEGIN:VEVENT
UID:event_00002159
DTSTAMP:20251018T140000Z
DTSTART:20251018T140000Z
DTEND:20251018T150000Z
SUMMARY:LWV-Portland: Get Acquainted Coffees
LOCATION:Second Rodeo Coffee Shop, 124 Sawyer St, South Portland ME
DESCRIPTION:Meet us in person for an informal, one-hour coffee
 ! Learn more about LWVPA, the latest news developm
 ents, and how your time and talent can make a diff
 erence.\n\nVisit event page: https://www.democracy
 maine.org/civicrm/event/info?id=2159&reset=1
END:VEVENT
END:VCALENDAR
