BEGIN:VCALENDAR
VERSION:2.0
METHOD:PUBLISH
PRODID:-//List Fixer//NONSGML v1.0//EN
BEGIN:VEVENT
UID:event_00002160
DTSTAMP:20251030T160000Z
DTSTART:20251030T160000Z
DTEND:20251030T170000Z
SUMMARY:LWV-Portland: Get Acquainted Coffees
LOCATION:Hosted on Zoom
DESCRIPTION:Meet us for an informal, one-hour coffee! Learn mo
 re about LWVPA, the latest news developments, and 
 how your time and talent can make a difference.\n\
 nVisit event page: https://www.democracymaine.org/
 civicrm/event/info?id=2160&reset=1
END:VEVENT
END:VCALENDAR
