BEGIN:VCALENDAR
VERSION:2.0
METHOD:PUBLISH
PRODID:-//List Fixer//NONSGML v1.0//EN
BEGIN:VEVENT
UID:event_00002162
DTSTAMP:20251028T230000Z
DTSTART:20251028T230000Z
DTEND:20251028T233000Z
SUMMARY:LWV-Portland: How to speak at Local Government Meetings
LOCATION:Hosted on Zoom
DESCRIPTION:What do you need to know before you attend your to
 wn council or school board meetings? This 30-minut
 e session will explain some of the fine points of 
 researching, attending and participating in public
  meetings.\n\nVisit event page: https://www.democr
 acymaine.org/civicrm/event/info?id=2162&reset=1
END:VEVENT
END:VCALENDAR
