BEGIN:VCALENDAR
VERSION:2.0
METHOD:PUBLISH
PRODID:-//List Fixer//NONSGML v1.0//EN
BEGIN:VEVENT
UID:event_00002163
DTSTAMP:20251015T190000Z
DTSTART:20251015T190000Z
DTEND:20251015T200000Z
SUMMARY:LWV-Portland Area: Book Club
LOCATION:FALMOUTH MEMORIAL LIBRARY, 5 Lunt Rd, Falmouth ME
DESCRIPTION:Author Robert Reich's latest work shines a light o
 n the challenges facing American democracy, offeri
 ng a compelling vision for what must change—and 
 how ordinary people can make it happen.\n\nVisit e
 vent page: https://www.democracymaine.org/civicrm/
 event/info?id=2163&reset=1
END:VEVENT
END:VCALENDAR
