BEGIN:VCALENDAR
VERSION:2.0
METHOD:PUBLISH
PRODID:-//List Fixer//NONSGML v1.0//EN
BEGIN:VEVENT
UID:event_00002164
DTSTAMP:20251016T213000Z
DTSTART:20251016T213000Z
DTEND:20251017T000000Z
SUMMARY:Candidate Forum: Bangor City Council & School Committee
LOCATION:BANGOR CITY HALL, 73 Harlow St, Bangor ME
DESCRIPTION:The League of Women Voters of the Bangor Area is h
 osting candidate forums for Bangor City Council an
 d School Committee.\n\nVisit event page: https://w
 ww.democracymaine.org/civicrm/event/info?id=2164&r
 eset=1
END:VEVENT
END:VCALENDAR
