BEGIN:VCALENDAR
VERSION:2.0
METHOD:PUBLISH
PRODID:-//List Fixer//NONSGML v1.0//EN
BEGIN:VEVENT
UID:event_00002166
DTSTAMP:20251007T210000Z
DTSTART:20251007T210000Z
DTEND:20251007T214500Z
SUMMARY:Hotline Volunteer Training
LOCATION:Hosted on Zoom
DESCRIPTION:Calls are already coming to our Election Informati
 on Hotline! Come to this training to learn how you
  can help us make sure all those calls are answere
 d. After this training, you'll be able to sign up 
 for shifts immediately. Calls come to your phone -
  all you have to do is sign up.\n\nVisit event pag
 e: https://www.democracymaine.org/civicrm/event/in
 fo?id=2166&reset=1
END:VEVENT
END:VCALENDAR
