BEGIN:VCALENDAR
VERSION:2.0
METHOD:PUBLISH
PRODID:-//List Fixer//NONSGML v1.0//EN
BEGIN:VEVENT
UID:event_00002167
DTSTAMP:20251016T213000Z
DTSTART:20251016T213000Z
DTEND:20251016T221500Z
SUMMARY:Nonpartisan Election Observation Training
LOCATION:Hosted On Zoom
DESCRIPTION:This training will give you the information you ne
 ed to participate in the League’s nonpartisan el
 ection observation program.\n\nVisit event page: h
 ttps://www.democracymaine.org/civicrm/event/info?i
 d=2167&reset=1
END:VEVENT
END:VCALENDAR
