BEGIN:VCALENDAR
VERSION:2.0
METHOD:PUBLISH
PRODID:-//List Fixer//NONSGML v1.0//EN
BEGIN:VEVENT
UID:event_00002169
DTSTAMP:20251017T200000Z
DTSTART:20251017T200000Z
DTEND:20251017T210000Z
SUMMARY:Democracy Forum — What's On Your Ballot
LOCATION:WERU 89.9 FM, Blue Hill ME
DESCRIPTION:Election Day is November 4, 2025\n\nVisit event pa
 ge: https://www.democracymaine.org/civicrm/event/i
 nfo?id=2169&reset=1
END:VEVENT
END:VCALENDAR
