BEGIN:VCALENDAR
VERSION:2.0
METHOD:PUBLISH
PRODID:-//List Fixer//NONSGML v1.0//EN
BEGIN:VEVENT
UID:event_00002170
DTSTAMP:20251014T220000Z
DTSTART:20251014T220000Z
DTEND:20251014T230000Z
SUMMARY:LWV-Portland: Save Maine Absentee Voting
LOCATION:MERRILL MEMORIAL LIBRARY, 215 Main St, Yarmouth ME
DESCRIPTION:Learn about Question 1, which will appear on your 
 November 4 ballot.\n\nVisit event page: https://ww
 w.democracymaine.org/civicrm/event/info?id=2170&re
 set=1
END:VEVENT
END:VCALENDAR
