BEGIN:VCALENDAR
VERSION:2.0
METHOD:PUBLISH
PRODID:-//List Fixer//NONSGML v1.0//EN
BEGIN:VEVENT
UID:event_00002175
DTSTAMP:20251003T140000Z
DTSTART:20251003T140000Z
DTEND:20251003T150000Z
SUMMARY:Fall into Action: Opening Panel Discussion
LOCATION:
DESCRIPTION:Join us on Friday, October 3rd at 10am for an open
 ing panel discussion to kickoff the Fall into Acti
 on Workshop Series!\n\nVisit event page: https://w
 ww.democracymaine.org/civicrm/event/info?id=2175&r
 eset=1
END:VEVENT
END:VCALENDAR
