BEGIN:VCALENDAR
VERSION:2.0
METHOD:PUBLISH
PRODID:-//List Fixer//NONSGML v1.0//EN
BEGIN:VEVENT
UID:event_00002176
DTSTAMP:20251012T170000Z
DTSTART:20251012T170000Z
DTEND:20251012T210000Z
SUMMARY:Save Maine Absentee Voting - South Portland Field Canvass!
LOCATION:WALKER MEMORIAL LIBRARY, 800 Main St
DESCRIPTION:Come knock on doors in South Portland to make sure
  people know that they should vote No on Question 
 One to save Maine absentee voting! Don't worry if 
 you've never done it - we'll train you.\n\nVisit e
 vent page: https://www.democracymaine.org/civicrm/
 event/info?id=2176&reset=1
END:VEVENT
END:VCALENDAR
