BEGIN:VCALENDAR
VERSION:2.0
METHOD:PUBLISH
PRODID:-//List Fixer//NONSGML v1.0//EN
BEGIN:VEVENT
UID:event_00002189
DTSTAMP:20251121T210000Z
DTSTART:20251121T210000Z
DTEND:20251121T220000Z
SUMMARY:Democracy Forum — Constitutional Crisis: Expansion of Presidential Power
LOCATION:WERU 89.9 FM, Blue Hill ME
DESCRIPTION:How's it playing out? Who's going to stop it?\n\nV
 isit event page: https://www.democracymaine.org/ci
 vicrm/event/info?id=2189&reset=1
END:VEVENT
END:VCALENDAR
