BEGIN:VCALENDAR
VERSION:2.0
METHOD:PUBLISH
PRODID:-//List Fixer//NONSGML v1.0//EN
BEGIN:VEVENT
UID:event_00002289
DTSTAMP:20260321T180000Z
DTSTART:20260321T180000Z
DTEND:20260321T200000Z
SUMMARY:Community Screening of The Inquisitor (2026)
LOCATION:ELLSWORTH PUBLIC LIBRARY, 20 State St, Ellsworth ME
DESCRIPTION:Explore the life and legacy of Barbara Jordan in T
 he Inquisitor. Jordan was a groundbreaking Texas c
 ongresswoman whose sharp intellect and moral clari
 ty transformed U.S. politics. Featuring a conversa
 tion led by League of Women Voters Maine and Maine
  Students Vote.\n\nVisit event page: https://www.d
 emocracymaine.org/civicrm/event/info?id=2289&reset
 =1
END:VEVENT
END:VCALENDAR
