BEGIN:VCALENDAR
VERSION:2.0
METHOD:PUBLISH
PRODID:-//List Fixer//NONSGML v1.0//EN
BEGIN:VEVENT
UID:event_00002290
DTSTAMP:20260328T040000Z
DTSTART:20260328T040000Z
DTEND:20260328T040000Z
SUMMARY:No Kings Rallies
LOCATION:Hosted Across Maine
DESCRIPTION:We are coming together now and in the streets on M
 arch 28 because we know we can overcome this oppre
 ssion when we unite. In America, we have No Kings.
 \n\nVisit event page: https://www.democracymaine.o
 rg/civicrm/event/info?id=2290&reset=1
END:VEVENT
END:VCALENDAR
